BEGIN:VCALENDAR
VERSION:2.0
PRODID:-//hacksw/handcal//NONSGML v1.0//EN
CALSCALE:GREGORIAN
BEGIN:VEVENT
SUMMARY:104. Haurra
LOCATION:Gezala Auditoriuma
DTSTART:20241108T161500Z
DESCRIPTION:
URL;VALUE=URI:https://azkena.lezo.eus/eu/node/104203
DTSTAMP:20260420T100819Z
UID:69e5def3caa30
END:VEVENT
END:VCALENDAR