BEGIN:VCALENDAR
VERSION:2.0
PRODID:-//hacksw/handcal//NONSGML v1.0//EN
CALSCALE:GREGORIAN
BEGIN:VEVENT
SUMMARY:Flores de España
LOCATION:Gezala Auditoriuma
DTSTART:20240929T173000Z
DESCRIPTION:
URL;VALUE=URI:https://azkena.lezo.eus/eu/node/104208
DTSTAMP:20260420T083249Z
UID:69e5c8911fb02
END:VEVENT
END:VCALENDAR