BEGIN:VCALENDAR
VERSION:2.0
PRODID:-//hacksw/handcal//NONSGML v1.0//EN
CALSCALE:GREGORIAN
BEGIN:VEVENT
SUMMARY:Menina. Soy una puta obra de Velázquez
LOCATION:Gezala Auditoriuma
DTSTART:20241110T183000Z
DESCRIPTION:
URL;VALUE=URI:https://azkena.lezo.eus/eu/node/104216
DTSTAMP:20260420T103017Z
UID:69e5e4190685b
END:VEVENT
END:VCALENDAR