BEGIN:VCALENDAR
VERSION:2.0
PRODID:-//hacksw/handcal//NONSGML v1.0//EN
CALSCALE:GREGORIAN
BEGIN:VEVENT
SUMMARY:Zeozertan dabil baina ez dakit zertan
LOCATION:Gezala Auditoriuma
DTSTART:20241215T183000Z
DESCRIPTION:
URL;VALUE=URI:https://azkena.lezo.eus/eu/node/104264
DTSTAMP:20260421T192802Z
UID:69e7b3a2e84f5
END:VEVENT
END:VCALENDAR