BEGIN:VCALENDAR
VERSION:2.0
PRODID:-//hacksw/handcal//NONSGML v1.0//EN
CALSCALE:GREGORIAN
BEGIN:VEVENT
SUMMARY:AZALA (DAB dantza konpainia)
LOCATION:Gezala Auditoriuma
DTSTART:20260222T183000Z
DESCRIPTION:
URL;VALUE=URI:https://azkena.lezo.eus/eu/node/104964
DTSTAMP:20260420T080400Z
UID:69e5c1d022509
END:VEVENT
END:VCALENDAR