BEGIN:VCALENDAR
VERSION:2.0
PRODID:-//hacksw/handcal//NONSGML v1.0//EN
CALSCALE:GREGORIAN
BEGIN:VEVENT
SUMMARY:HOPPER OILASKOERBIA ETA MARMOTAREN SEKRETUA (haur zinema)
LOCATION:Gezala Auditoriuma
DTSTART:20260307T160000Z
DESCRIPTION:
URL;VALUE=URI:https://azkena.lezo.eus/eu/node/104980
DTSTAMP:20260420T071526Z
UID:69e5b66e4bf84
END:VEVENT
END:VCALENDAR