BEGIN:VCALENDAR
VERSION:2.0
PRODID:-//hacksw/handcal//NONSGML v1.0//EN
CALSCALE:GREGORIAN
BEGIN:VEVENT
SUMMARY:KARMELE (zinema familian)
LOCATION:Gezala Auditoriuma
DTSTART:20260207T180000Z
DESCRIPTION:
URL;VALUE=URI:https://azkena.lezo.eus/eu/node/104983
DTSTAMP:20260420T103018Z
UID:69e5e41a11adc
END:VEVENT
END:VCALENDAR