BEGIN:VCALENDAR
VERSION:2.0
PRODID:-//hacksw/handcal//NONSGML v1.0//EN
CALSCALE:GREGORIAN
BEGIN:VEVENT
SUMMARY:LA ISLA
LOCATION:Gezala Auditoriuma
DTSTART:20200315T190000Z
DESCRIPTION:
URL;VALUE=URI:https://azkena.lezo.eus/index.php/eu/agenda/la-isla
DTSTAMP:20260419T145352Z
UID:69e4d060ccb3c
END:VEVENT
END:VCALENDAR