BEGIN:VCALENDAR
VERSION:2.0
PRODID:-//hacksw/handcal//NONSGML v1.0//EN
CALSCALE:GREGORIAN
BEGIN:VEVENT
SUMMARY:Partidak Bekoerrota - larunbata
LOCATION:Bekoerrota kiroldegia
DTSTART:20260425T070000Z
DESCRIPTION:
URL;VALUE=URI:https://azkena.lezo.eus/index.php/eu/agenda/partidak-bekoerrota-larunbata-45
DTSTAMP:20260422T170934Z
UID:69e8e4ae846db
END:VEVENT
END:VCALENDAR