BEGIN:VCALENDAR
VERSION:2.0
PRODID:-//hacksw/handcal//NONSGML v1.0//EN
CALSCALE:GREGORIAN
BEGIN:VEVENT
SUMMARY:Peregrino modernoen oporrak
LOCATION:Gezala Auditoriuma
DTSTART:20240420T170000Z
DESCRIPTION:
URL;VALUE=URI:https://azkena.lezo.eus/index.php/eu/node/103798
DTSTAMP:20260421T202552Z
UID:69e7c1303f4c7
END:VEVENT
END:VCALENDAR