BEGIN:VCALENDAR
VERSION:2.0
PRODID:-//hacksw/handcal//NONSGML v1.0//EN
CALSCALE:GREGORIAN
BEGIN:VEVENT
SUMMARY:Jone\, batzuetan (Zinema familian)
LOCATION:Gezala Auditoriuma
DTSTART:20251115T180000Z
DESCRIPTION:
URL;VALUE=URI:https://azkena.lezo.eus/index.php/eu/node/104811
DTSTAMP:20260420T014312Z
UID:69e5689037e87
END:VEVENT
END:VCALENDAR