BEGIN:VCALENDAR
VERSION:2.0
PRODID:-//hacksw/handcal//NONSGML v1.0//EN
CALSCALE:GREGORIAN
BEGIN:VEVENT
SUMMARY:BUFFALO KIDS (haur zinema)
LOCATION:Gezala Auditoriuma
DTSTART:20260207T160000Z
DESCRIPTION:
URL;VALUE=URI:https://azkena.lezo.eus/index.php/eu/node/104979
DTSTAMP:20260419T112942Z
UID:69e4a08638daf
END:VEVENT
END:VCALENDAR