BEGIN:VCALENDAR
VERSION:2.0
PRODID:-//hacksw/handcal//NONSGML v1.0//EN
CALSCALE:GREGORIAN
BEGIN:VEVENT
SUMMARY:HARTZ-ATZAPAR KANPAMENTUA
LOCATION:Gezala Auditoriuma
DTSTART:20260510T150000Z
DESCRIPTION:
URL;VALUE=URI:https://azkena.lezo.eus/index.php/eu/node/104981
DTSTAMP:20260424T184255Z
UID:69eb9d8f64f75
END:VEVENT
END:VCALENDAR