BEGIN:VCALENDAR
VERSION:2.0
PRODID:-//hacksw/handcal//NONSGML v1.0//EN
CALSCALE:GREGORIAN
BEGIN:VEVENT
SUMMARY:EBOOK\, LIBURUAREN BILAKAERA
LOCATION:Gezala Auditoriuma
DTSTART:20200214T161500Z
DESCRIPTION:
URL;VALUE=URI:https://azkena.lezo.eus/index.php/eu/agenda/ebook-liburuaren-bilakaera
DTSTAMP:20260419T174615Z
UID:69e4f8c7d2d86
END:VEVENT
END:VCALENDAR