BEGIN:VCALENDAR
VERSION:2.0
PRODID:-//hacksw/handcal//NONSGML v1.0//EN
CALSCALE:GREGORIAN
BEGIN:VEVENT
SUMMARY:OXIDO
LOCATION:Gezala Auditoriuma
DTSTART:20200301T190000Z
DESCRIPTION:
URL;VALUE=URI:https://azkena.lezo.eus/index.php/eu/node/101352
DTSTAMP:20260419T191718Z
UID:69e50e1e19d23
END:VEVENT
END:VCALENDAR