BEGIN:VCALENDAR
VERSION:2.0
PRODID:-//hacksw/handcal//NONSGML v1.0//EN
CALSCALE:GREGORIAN
BEGIN:VEVENT
SUMMARY:Central Parkeko heroiak
LOCATION:Gezala Auditoriuma
DTSTART:20241214T160000Z
DESCRIPTION:
URL;VALUE=URI:https://azkena.lezo.eus/index.php/eu/node/104252
DTSTAMP:20260420T045910Z
UID:69e5967e83772
END:VEVENT
END:VCALENDAR