BEGIN:VCALENDAR
VERSION:2.0
PRODID:-//hacksw/handcal//NONSGML v1.0//EN
CALSCALE:GREGORIAN
BEGIN:VEVENT
SUMMARY:Antzerki ametsetan (Alegia)
LOCATION:Gezala Auditoriuma
DTSTART:20251018T173000Z
DESCRIPTION:
URL;VALUE=URI:https://azkena.lezo.eus/index.php/es/node/104832
DTSTAMP:20260420T031744Z
UID:69e57eb836048
END:VEVENT
END:VCALENDAR