BEGIN:VCALENDAR
VERSION:2.0
PRODID:-//hacksw/handcal//NONSGML v1.0//EN
CALSCALE:GREGORIAN
BEGIN:VEVENT
SUMMARY:GARTXOT ETA GARAZI
LOCATION:Gurutze Santuaren Basilika
DTSTART:20260423T170000Z
DESCRIPTION:
URL;VALUE=URI:https://azkena.lezo.eus/index.php/eu/node/105135
DTSTAMP:20260422T124748Z
UID:69e8a754b7cb0
END:VEVENT
END:VCALENDAR